BEGIN:VCALENDAR
VERSION:2.0
PRODID:-//Streekmuseum Veldzicht - ECPv6.15.14//NONSGML v1.0//EN
CALSCALE:GREGORIAN
METHOD:PUBLISH
X-ORIGINAL-URL:https://streekmuseumveldzicht.nl
X-WR-CALDESC:Evenementen voor Streekmuseum Veldzicht
REFRESH-INTERVAL;VALUE=DURATION:PT1H
X-Robots-Tag:noindex
X-PUBLISHED-TTL:PT1H
BEGIN:VTIMEZONE
TZID:Europe/Amsterdam
BEGIN:DAYLIGHT
TZOFFSETFROM:+0100
TZOFFSETTO:+0200
TZNAME:CEST
DTSTART:20220327T010000
END:DAYLIGHT
BEGIN:STANDARD
TZOFFSETFROM:+0200
TZOFFSETTO:+0100
TZNAME:CET
DTSTART:20221030T010000
END:STANDARD
BEGIN:DAYLIGHT
TZOFFSETFROM:+0100
TZOFFSETTO:+0200
TZNAME:CEST
DTSTART:20230326T010000
END:DAYLIGHT
BEGIN:STANDARD
TZOFFSETFROM:+0200
TZOFFSETTO:+0100
TZNAME:CET
DTSTART:20231029T010000
END:STANDARD
BEGIN:DAYLIGHT
TZOFFSETFROM:+0100
TZOFFSETTO:+0200
TZNAME:CEST
DTSTART:20240331T010000
END:DAYLIGHT
BEGIN:STANDARD
TZOFFSETFROM:+0200
TZOFFSETTO:+0100
TZNAME:CET
DTSTART:20241027T010000
END:STANDARD
END:VTIMEZONE
BEGIN:VEVENT
DTSTART;VALUE=DATE:20230610
DTEND;VALUE=DATE:20230612
DTSTAMP:20260424T174837
CREATED:20230501T173106Z
LAST-MODIFIED:20230521T100757Z
UID:2944-1686355200-1686527999@streekmuseumveldzicht.nl
SUMMARY:Open tuinendagen
DESCRIPTION:Tijdens de Markt onder de Linden zijn ook de tuinen bij Veldzicht te bezoeken. Vrijwilligers heten u hartelijk welkom!
URL:https://streekmuseumveldzicht.nl/evenement/open-tuinendagen/
CATEGORIES:Markten
END:VEVENT
END:VCALENDAR