BEGIN:VCALENDAR
VERSION:2.0
PRODID:-//Streekmuseum Veldzicht - ECPv6.15.14//NONSGML v1.0//EN
CALSCALE:GREGORIAN
METHOD:PUBLISH
X-ORIGINAL-URL:https://streekmuseumveldzicht.nl
X-WR-CALDESC:Evenementen voor Streekmuseum Veldzicht
REFRESH-INTERVAL;VALUE=DURATION:PT1H
X-Robots-Tag:noindex
X-PUBLISHED-TTL:PT1H
BEGIN:VTIMEZONE
TZID:Europe/Amsterdam
BEGIN:DAYLIGHT
TZOFFSETFROM:+0100
TZOFFSETTO:+0200
TZNAME:CEST
DTSTART:20230326T010000
END:DAYLIGHT
BEGIN:STANDARD
TZOFFSETFROM:+0200
TZOFFSETTO:+0100
TZNAME:CET
DTSTART:20231029T010000
END:STANDARD
BEGIN:DAYLIGHT
TZOFFSETFROM:+0100
TZOFFSETTO:+0200
TZNAME:CEST
DTSTART:20240331T010000
END:DAYLIGHT
BEGIN:STANDARD
TZOFFSETFROM:+0200
TZOFFSETTO:+0100
TZNAME:CET
DTSTART:20241027T010000
END:STANDARD
BEGIN:DAYLIGHT
TZOFFSETFROM:+0100
TZOFFSETTO:+0200
TZNAME:CEST
DTSTART:20250330T010000
END:DAYLIGHT
BEGIN:STANDARD
TZOFFSETFROM:+0200
TZOFFSETTO:+0100
TZNAME:CET
DTSTART:20251026T010000
END:STANDARD
BEGIN:DAYLIGHT
TZOFFSETFROM:+0100
TZOFFSETTO:+0200
TZNAME:CEST
DTSTART:20260329T010000
END:DAYLIGHT
BEGIN:STANDARD
TZOFFSETFROM:+0200
TZOFFSETTO:+0100
TZNAME:CET
DTSTART:20261025T010000
END:STANDARD
BEGIN:DAYLIGHT
TZOFFSETFROM:+0100
TZOFFSETTO:+0200
TZNAME:CEST
DTSTART:20270328T010000
END:DAYLIGHT
BEGIN:STANDARD
TZOFFSETFROM:+0200
TZOFFSETTO:+0100
TZNAME:CET
DTSTART:20271031T010000
END:STANDARD
END:VTIMEZONE
BEGIN:VEVENT
DTSTART;VALUE=DATE:20240413
DTEND;VALUE=DATE:20240414
DTSTAMP:20260424T175524
CREATED:20240106T175208Z
LAST-MODIFIED:20240321T134918Z
UID:3539-1712966400-1713052799@streekmuseumveldzicht.nl
SUMMARY:Boerenmarkt
DESCRIPTION:Tegelijk met de bekende Boerenmarkt is het ook de Dag van de Noordwijkse Geschiedenis. De opening van die dag is om 10 uur bij Veldzicht. De markt is tot 16 uur.
URL:https://streekmuseumveldzicht.nl/evenement/boerenmarkt-2/
CATEGORIES:Markten
END:VEVENT
BEGIN:VEVENT
DTSTART;TZID=Europe/Amsterdam:20240914T100000
DTEND;TZID=Europe/Amsterdam:20240914T160000
DTSTAMP:20260424T175524
CREATED:20240716T133839Z
LAST-MODIFIED:20240723T131959Z
UID:3786-1726308000-1726329600@streekmuseumveldzicht.nl
SUMMARY:Pompoenmarkt
DESCRIPTION:Op jaarlijkse Pompoenmarkt én Open Monumentendag; bij Veldzicht is er weer van alles te koop en te beleven!
URL:https://streekmuseumveldzicht.nl/evenement/pompoenmarkt-2/
CATEGORIES:Markten
END:VEVENT
BEGIN:VEVENT
DTSTART;VALUE=DATE:20240918
DTEND;VALUE=DATE:20240919
DTSTAMP:20260424T175524
CREATED:20240719T095536Z
LAST-MODIFIED:20240917T132948Z
UID:3790-1726617600-1726703999@streekmuseumveldzicht.nl
SUMMARY:Veldzicht bij Woonzorgcentrum Willem van den Bergh
DESCRIPTION:Veldzicht staat op de markt tijdens het 100-jarig bestaan van het woonzorgpark. Vrijwilligers van Veldzicht tonen dan oude ambachten. Ze maken onder andere prachtige geweven theedoeken.
URL:https://streekmuseumveldzicht.nl/evenement/veldzicht-bij-woonzorgcentrum-willem-van-den-bergh/
CATEGORIES:Markten
END:VEVENT
BEGIN:VEVENT
DTSTART;TZID=Europe/Amsterdam:20240921T130000
DTEND;TZID=Europe/Amsterdam:20240921T170000
DTSTAMP:20260424T175524
CREATED:20240719T094950Z
LAST-MODIFIED:20240723T131912Z
UID:3792-1726923600-1726938000@streekmuseumveldzicht.nl
SUMMARY:Cultuurmarkt Noordwijk
DESCRIPTION:Veldzicht presenteert zich op de Cultuurmarkt in Noordwijk\, een gezellig evenement voor jong en oud. De markt is op het Jeroensplein bij het Gemeentehuis.
URL:https://streekmuseumveldzicht.nl/evenement/cultuurmarkt-noordwijk/
CATEGORIES:Markten
END:VEVENT
BEGIN:VEVENT
DTSTART;TZID=Europe/Amsterdam:20250419T100000
DTEND;TZID=Europe/Amsterdam:20250419T160000
DTSTAMP:20260424T175524
CREATED:20250205T144545Z
LAST-MODIFIED:20250205T145129Z
UID:4182-1745056800-1745078400@streekmuseumveldzicht.nl
SUMMARY:Boerenmarkt en Dag van de Noordwijkse geschiedenis
DESCRIPTION:De bekende Boerenmarkt opent tegelijk met de Dag van de Noordwijkse geschiedenis. Kijk voor meer informatie bij Nieuws In en rondom het museum.
URL:https://streekmuseumveldzicht.nl/evenement/boerenmarkt-en-dag-van-de-noordwijkse-geschiedenis/
CATEGORIES:Markten
END:VEVENT
BEGIN:VEVENT
DTSTART;VALUE=DATE:20250913
DTEND;VALUE=DATE:20250914
DTSTAMP:20260424T175524
CREATED:20250628T151859Z
LAST-MODIFIED:20250628T151859Z
UID:4359-1757721600-1757807999@streekmuseumveldzicht.nl
SUMMARY:Pompoenmarkt en Open Monumentendag
DESCRIPTION:Bezoek de bekende én geliefde Pompoenmarkt bij Veldzicht. Het is ook Open Monumentendag.
URL:https://streekmuseumveldzicht.nl/evenement/pompoenmarkt-en-open-monumentendag/
CATEGORIES:Markten
END:VEVENT
BEGIN:VEVENT
DTSTART;TZID=Europe/Amsterdam:20250921T130000
DTEND;TZID=Europe/Amsterdam:20250921T170000
DTSTAMP:20260424T175524
CREATED:20250902T160208Z
LAST-MODIFIED:20250902T160248Z
UID:4496-1758459600-1758474000@streekmuseumveldzicht.nl
SUMMARY:Cultuurmarkt
DESCRIPTION:Op deze markt presenteren 22 culturele verenigingen hun programma’s en activiteiten voor het komende seizoen. Kijk ook bij Nieuws uit de media.
URL:https://streekmuseumveldzicht.nl/evenement/cultuurmarkt/
CATEGORIES:Markten
END:VEVENT
BEGIN:VEVENT
DTSTART;VALUE=DATE:20260411
DTEND;VALUE=DATE:20260412
DTSTAMP:20260424T175524
CREATED:20251216T110831Z
LAST-MODIFIED:20251216T111601Z
UID:4778-1775865600-1775951999@streekmuseumveldzicht.nl
SUMMARY:Boerenmarkt en Dag van de Noordwijkse geschiedenis
DESCRIPTION:De bekende Boerenmarkt is ook dit jaar tegelijk met de Dag van de Noordwijkse geschiedenis.
URL:https://streekmuseumveldzicht.nl/evenement/boerenmarkt-en-dag-van-de-noordwijkse-geschiedenis-2/
CATEGORIES:Markten
END:VEVENT
BEGIN:VEVENT
DTSTART;VALUE=DATE:20260912
DTEND;VALUE=DATE:20260913
DTSTAMP:20260424T175524
CREATED:20251216T111458Z
LAST-MODIFIED:20251216T111458Z
UID:4782-1789171200-1789257599@streekmuseumveldzicht.nl
SUMMARY:Pompoenmarkt en Open Monumentendag
DESCRIPTION:Bezoek tijdens Open Monumentendag ons museum en de jaarlijkse Pompoenmarkt!
URL:https://streekmuseumveldzicht.nl/evenement/pompoenmarkt-en-open-monumentendag-2/
CATEGORIES:Markten
END:VEVENT
END:VCALENDAR